BEGIN:VCALENDAR
VERSION:2.0
PRODID:-//Visit Neshoba - ECPv6.15.19//NONSGML v1.0//EN
CALSCALE:GREGORIAN
METHOD:PUBLISH
X-ORIGINAL-URL:https://visitneshoba.com
X-WR-CALDESC:Events for Visit Neshoba
REFRESH-INTERVAL;VALUE=DURATION:PT1H
X-Robots-Tag:noindex
X-PUBLISHED-TTL:PT1H
BEGIN:VTIMEZONE
TZID:America/Chicago
BEGIN:DAYLIGHT
TZOFFSETFROM:-0600
TZOFFSETTO:-0500
TZNAME:CDT
DTSTART:20250309T080000
END:DAYLIGHT
BEGIN:STANDARD
TZOFFSETFROM:-0500
TZOFFSETTO:-0600
TZNAME:CST
DTSTART:20251102T070000
END:STANDARD
BEGIN:DAYLIGHT
TZOFFSETFROM:-0600
TZOFFSETTO:-0500
TZNAME:CDT
DTSTART:20260308T080000
END:DAYLIGHT
BEGIN:STANDARD
TZOFFSETFROM:-0500
TZOFFSETTO:-0600
TZNAME:CST
DTSTART:20261101T070000
END:STANDARD
BEGIN:DAYLIGHT
TZOFFSETFROM:-0600
TZOFFSETTO:-0500
TZNAME:CDT
DTSTART:20270314T080000
END:DAYLIGHT
BEGIN:STANDARD
TZOFFSETFROM:-0500
TZOFFSETTO:-0600
TZNAME:CST
DTSTART:20271107T070000
END:STANDARD
END:VTIMEZONE
BEGIN:VEVENT
DTSTART;TZID=America/Chicago:20260305T190000
DTEND;TZID=America/Chicago:20260305T200000
DTSTAMP:20260420T092602
CREATED:20260203T211307Z
LAST-MODIFIED:20260203T220559Z
UID:10000781-1772737200-1772740800@visitneshoba.com
SUMMARY:Freaky Friday presented by PNC Arts Council
DESCRIPTION:
URL:https://visitneshoba.com/event/freaky-friday-presented-by-pnc-arts-council/2026-03-05/
LOCATION:The Ellis Theater\, 311 Byrd Avenue\, Philadelphia\, MS\, 39350
ATTACH;FMTTYPE=image/jpeg:https://visitneshoba.com/wp-content/uploads/PNC-Arts-Council-logo.jpg
END:VEVENT
BEGIN:VEVENT
DTSTART;TZID=America/Chicago:20260306T190000
DTEND;TZID=America/Chicago:20260306T200000
DTSTAMP:20260420T092602
CREATED:20260203T211307Z
LAST-MODIFIED:20260203T220559Z
UID:10000783-1772823600-1772827200@visitneshoba.com
SUMMARY:Freaky Friday presented by PNC Arts Council
DESCRIPTION:
URL:https://visitneshoba.com/event/freaky-friday-presented-by-pnc-arts-council/2026-03-06/
LOCATION:The Ellis Theater\, 311 Byrd Avenue\, Philadelphia\, MS\, 39350
ATTACH;FMTTYPE=image/jpeg:https://visitneshoba.com/wp-content/uploads/PNC-Arts-Council-logo.jpg
END:VEVENT
BEGIN:VEVENT
DTSTART;TZID=America/Chicago:20260307T140000
DTEND;TZID=America/Chicago:20260307T160559
DTSTAMP:20260420T092602
CREATED:20260203T211307Z
LAST-MODIFIED:20260203T220559Z
UID:10000784-1772892000-1772899559@visitneshoba.com
SUMMARY:Freaky Friday presented by PNC Arts Council
DESCRIPTION:
URL:https://visitneshoba.com/event/freaky-friday-presented-by-pnc-arts-council/2026-03-07/
LOCATION:The Ellis Theater\, 311 Byrd Avenue\, Philadelphia\, MS\, 39350
ATTACH;FMTTYPE=image/jpeg:https://visitneshoba.com/wp-content/uploads/PNC-Arts-Council-logo.jpg
END:VEVENT
BEGIN:VEVENT
DTSTART;TZID=America/Chicago:20260308T140000
DTEND;TZID=America/Chicago:20260308T160559
DTSTAMP:20260420T092602
CREATED:20260203T211307Z
LAST-MODIFIED:20260203T220559Z
UID:10000785-1772978400-1772985959@visitneshoba.com
SUMMARY:Freaky Friday presented by PNC Arts Council
DESCRIPTION:
URL:https://visitneshoba.com/event/freaky-friday-presented-by-pnc-arts-council/2026-03-08/
LOCATION:The Ellis Theater\, 311 Byrd Avenue\, Philadelphia\, MS\, 39350
ATTACH;FMTTYPE=image/jpeg:https://visitneshoba.com/wp-content/uploads/PNC-Arts-Council-logo.jpg
END:VEVENT
BEGIN:VEVENT
DTSTART;TZID=America/Chicago:20260312T190000
DTEND;TZID=America/Chicago:20260312T190000
DTSTAMP:20260420T092602
CREATED:20260203T220951Z
LAST-MODIFIED:20260203T221215Z
UID:10000786-1773342000-1773342000@visitneshoba.com
SUMMARY:Sean of the South LIVE at The Ellis Theater
DESCRIPTION:
URL:https://visitneshoba.com/event/sean-of-the-south-live-at-the-ellis-theater/
LOCATION:The Ellis Theater\, 311 Byrd Avenue\, Philadelphia\, MS\, 39350
ATTACH;FMTTYPE=image/jpeg:https://visitneshoba.com/wp-content/uploads/Ellis-logo.jpg
END:VEVENT
BEGIN:VEVENT
DTSTART;TZID=America/Chicago:20260314T200000
DTEND;TZID=America/Chicago:20260314T200000
DTSTAMP:20260420T092602
CREATED:20260203T222029Z
LAST-MODIFIED:20260203T222332Z
UID:10000788-1773518400-1773518400@visitneshoba.com
SUMMARY:Smokey Robinson LIVE at Silver Star
DESCRIPTION:
URL:https://visitneshoba.com/event/smokey-robinson-live-at-silver-star/
LOCATION:Silver Star Convention Center\, 13550 MS 16\, Philadelphia\, MS\, 39350\, United States
ATTACH;FMTTYPE=image/jpeg:https://visitneshoba.com/wp-content/uploads/Silver-Star-e1765473471686.jpg
END:VEVENT
BEGIN:VEVENT
DTSTART;TZID=America/Chicago:20260328T193000
DTEND;TZID=America/Chicago:20260328T193000
DTSTAMP:20260420T092602
CREATED:20260203T221127Z
LAST-MODIFIED:20260203T221157Z
UID:10000787-1774726200-1774726200@visitneshoba.com
SUMMARY:Jimmy Fortune LIVE at The Ellis Theater
DESCRIPTION:
URL:https://visitneshoba.com/event/jimmy-fortune-live-at-the-ellis-theater/
LOCATION:The Ellis Theater\, 311 Byrd Avenue\, Philadelphia\, MS\, 39350
ATTACH;FMTTYPE=image/jpeg:https://visitneshoba.com/wp-content/uploads/Ellis-logo.jpg
END:VEVENT
END:VCALENDAR