BEGIN:VCALENDAR
VERSION:2.0
PRODID:-//Visit Neshoba - ECPv6.15.19//NONSGML v1.0//EN
CALSCALE:GREGORIAN
METHOD:PUBLISH
X-WR-CALNAME:Visit Neshoba
X-ORIGINAL-URL:https://visitneshoba.com
X-WR-CALDESC:Events for Visit Neshoba
REFRESH-INTERVAL;VALUE=DURATION:PT1H
X-Robots-Tag:noindex
X-PUBLISHED-TTL:PT1H
BEGIN:VTIMEZONE
TZID:America/Chicago
BEGIN:DAYLIGHT
TZOFFSETFROM:-0600
TZOFFSETTO:-0500
TZNAME:CDT
DTSTART:20240310T080000
END:DAYLIGHT
BEGIN:STANDARD
TZOFFSETFROM:-0500
TZOFFSETTO:-0600
TZNAME:CST
DTSTART:20241103T070000
END:STANDARD
BEGIN:DAYLIGHT
TZOFFSETFROM:-0600
TZOFFSETTO:-0500
TZNAME:CDT
DTSTART:20250309T080000
END:DAYLIGHT
BEGIN:STANDARD
TZOFFSETFROM:-0500
TZOFFSETTO:-0600
TZNAME:CST
DTSTART:20251102T070000
END:STANDARD
BEGIN:DAYLIGHT
TZOFFSETFROM:-0600
TZOFFSETTO:-0500
TZNAME:CDT
DTSTART:20260308T080000
END:DAYLIGHT
BEGIN:STANDARD
TZOFFSETFROM:-0500
TZOFFSETTO:-0600
TZNAME:CST
DTSTART:20261101T070000
END:STANDARD
END:VTIMEZONE
BEGIN:VEVENT
DTSTART;TZID=America/Chicago:20250919T200000
DTEND;TZID=America/Chicago:20250919T200000
DTSTAMP:20260420T195449
CREATED:20250912T191426Z
LAST-MODIFIED:20250912T200620Z
UID:10000380-1758312000-1758312000@visitneshoba.com
SUMMARY:Danae Hays LIVE
DESCRIPTION:Danae Hays LIVE at the Ellis Theater on Friday\, September 19\, 2025 at 8:00pm. \nVisit the Ellis Theater website for tickets.
URL:https://visitneshoba.com/event/danae-hays-live/
LOCATION:The Ellis Theater\, 311 Byrd Avenue\, Philadelphia\, MS\, 39350
ATTACH;FMTTYPE=image/jpeg:https://visitneshoba.com/wp-content/uploads/Ellis-logo.jpg
END:VEVENT
BEGIN:VEVENT
DTSTART;TZID=America/Chicago:20250926T193000
DTEND;TZID=America/Chicago:20250926T193000
DTSTAMP:20260420T195449
CREATED:20250912T192442Z
LAST-MODIFIED:20250912T192442Z
UID:10000381-1758915000-1758915000@visitneshoba.com
SUMMARY:Rhonda Vincent LIVE
DESCRIPTION:Rhonda Vincent LIVE at the Ellis Theater on Friday\, September 26\, 2025 at 7:30pm.\n  \nVisit the Ellis Theater website for tickets.
URL:https://visitneshoba.com/event/rhonda-vincent-live/
LOCATION:The Ellis Theater\, 311 Byrd Avenue\, Philadelphia\, MS\, 39350
ATTACH;FMTTYPE=image/jpeg:https://visitneshoba.com/wp-content/uploads/Ellis-logo.jpg
END:VEVENT
END:VCALENDAR