BEGIN:VCALENDAR
VERSION:2.0
PRODID:-//Visit Neshoba - ECPv6.15.19//NONSGML v1.0//EN
CALSCALE:GREGORIAN
METHOD:PUBLISH
X-WR-CALNAME:Visit Neshoba
X-ORIGINAL-URL:https://visitneshoba.com
X-WR-CALDESC:Events for Visit Neshoba
REFRESH-INTERVAL;VALUE=DURATION:PT1H
X-Robots-Tag:noindex
X-PUBLISHED-TTL:PT1H
BEGIN:VTIMEZONE
TZID:America/Chicago
BEGIN:DAYLIGHT
TZOFFSETFROM:-0600
TZOFFSETTO:-0500
TZNAME:CDT
DTSTART:20250309T080000
END:DAYLIGHT
BEGIN:STANDARD
TZOFFSETFROM:-0500
TZOFFSETTO:-0600
TZNAME:CST
DTSTART:20251102T070000
END:STANDARD
BEGIN:DAYLIGHT
TZOFFSETFROM:-0600
TZOFFSETTO:-0500
TZNAME:CDT
DTSTART:20260308T080000
END:DAYLIGHT
BEGIN:STANDARD
TZOFFSETFROM:-0500
TZOFFSETTO:-0600
TZNAME:CST
DTSTART:20261101T070000
END:STANDARD
BEGIN:DAYLIGHT
TZOFFSETFROM:-0600
TZOFFSETTO:-0500
TZNAME:CDT
DTSTART:20270314T080000
END:DAYLIGHT
BEGIN:STANDARD
TZOFFSETFROM:-0500
TZOFFSETTO:-0600
TZNAME:CST
DTSTART:20271107T070000
END:STANDARD
END:VTIMEZONE
BEGIN:VEVENT
DTSTART;TZID=America/Chicago:20260424T193000
DTEND;TZID=America/Chicago:20260424T193000
DTSTAMP:20260420T123105
CREATED:20260330T211203Z
LAST-MODIFIED:20260330T214141Z
UID:10000794-1777059000-1777059000@visitneshoba.com
SUMMARY:Mac McAnally LIVE at the Ellis
DESCRIPTION:
URL:https://visitneshoba.com/event/mac-mcanally-live-at-the-ellis/
LOCATION:The Ellis Theater\, 311 Byrd Avenue\, Philadelphia\, MS\, 39350
ATTACH;FMTTYPE=image/jpeg:https://visitneshoba.com/wp-content/uploads/Ellis-1-scaled.jpg
END:VEVENT
BEGIN:VEVENT
DTSTART;TZID=America/Chicago:20260425T193000
DTEND;TZID=America/Chicago:20260425T193000
DTSTAMP:20260420T123105
CREATED:20260330T211327Z
LAST-MODIFIED:20260330T214114Z
UID:10000795-1777145400-1777145400@visitneshoba.com
SUMMARY:Marty Stuart and His Fabulous Superlatives LIVE at the Ellis
DESCRIPTION:
URL:https://visitneshoba.com/event/marty-stuar-and-his-fabulous-superlatives-live-at-the-ellis/
LOCATION:The Ellis Theater\, 311 Byrd Avenue\, Philadelphia\, MS\, 39350
ATTACH;FMTTYPE=image/jpeg:https://visitneshoba.com/wp-content/uploads/Ellis-1-scaled.jpg
END:VEVENT
BEGIN:VEVENT
DTSTART;TZID=America/Chicago:20260516T110000
DTEND;TZID=America/Chicago:20260516T170000
DTSTAMP:20260420T123105
CREATED:20260330T212413Z
LAST-MODIFIED:20260330T213936Z
UID:10000798-1778929200-1778950800@visitneshoba.com
SUMMARY:Geyser Falls Opening Weekend
DESCRIPTION:
URL:https://visitneshoba.com/event/geyser-falls-opening-weekend/2026-05-16/
LOCATION:Geyser Falls Water Theme Park\, 209 Blackjack Road\, Choctaw\, MS\, 39350\, United States
ATTACH;FMTTYPE=image/jpeg:https://visitneshoba.com/wp-content/uploads/fun.jpg
END:VEVENT
BEGIN:VEVENT
DTSTART;TZID=America/Chicago:20260517T120000
DTEND;TZID=America/Chicago:20260517T170000
DTSTAMP:20260420T123105
CREATED:20260330T212413Z
LAST-MODIFIED:20260330T213936Z
UID:10000801-1779019200-1779037200@visitneshoba.com
SUMMARY:Geyser Falls Opening Weekend
DESCRIPTION:
URL:https://visitneshoba.com/event/geyser-falls-opening-weekend/2026-05-17/
LOCATION:Geyser Falls Water Theme Park\, 209 Blackjack Road\, Choctaw\, MS\, 39350\, United States
ATTACH;FMTTYPE=image/jpeg:https://visitneshoba.com/wp-content/uploads/fun.jpg
END:VEVENT
BEGIN:VEVENT
DTSTART;TZID=America/Chicago:20260523T200000
DTEND;TZID=America/Chicago:20260523T200000
DTSTAMP:20260420T123105
CREATED:20260330T212014Z
LAST-MODIFIED:20260330T213734Z
UID:10000797-1779566400-1779566400@visitneshoba.com
SUMMARY:Jeff Dunham LIVE at Silver Star
DESCRIPTION:
URL:https://visitneshoba.com/event/jeff-dunham-live-at-silver-star/
LOCATION:Silver Star Convention Center\, 13550 MS 16\, Philadelphia\, MS\, 39350\, United States
ATTACH;FMTTYPE=image/jpeg:https://visitneshoba.com/wp-content/uploads/GM-scaled.jpg
END:VEVENT
END:VCALENDAR