BEGIN:VCALENDAR
VERSION:2.0
PRODID:-//Visit Neshoba - ECPv6.15.19//NONSGML v1.0//EN
CALSCALE:GREGORIAN
METHOD:PUBLISH
X-WR-CALNAME:Visit Neshoba
X-ORIGINAL-URL:https://visitneshoba.com
X-WR-CALDESC:Events for Visit Neshoba
REFRESH-INTERVAL;VALUE=DURATION:PT1H
X-Robots-Tag:noindex
X-PUBLISHED-TTL:PT1H
BEGIN:VTIMEZONE
TZID:America/Chicago
BEGIN:DAYLIGHT
TZOFFSETFROM:-0600
TZOFFSETTO:-0500
TZNAME:CDT
DTSTART:20240310T080000
END:DAYLIGHT
BEGIN:STANDARD
TZOFFSETFROM:-0500
TZOFFSETTO:-0600
TZNAME:CST
DTSTART:20241103T070000
END:STANDARD
BEGIN:DAYLIGHT
TZOFFSETFROM:-0600
TZOFFSETTO:-0500
TZNAME:CDT
DTSTART:20250309T080000
END:DAYLIGHT
BEGIN:STANDARD
TZOFFSETFROM:-0500
TZOFFSETTO:-0600
TZNAME:CST
DTSTART:20251102T070000
END:STANDARD
BEGIN:DAYLIGHT
TZOFFSETFROM:-0600
TZOFFSETTO:-0500
TZNAME:CDT
DTSTART:20260308T080000
END:DAYLIGHT
BEGIN:STANDARD
TZOFFSETFROM:-0500
TZOFFSETTO:-0600
TZNAME:CST
DTSTART:20261101T070000
END:STANDARD
BEGIN:DAYLIGHT
TZOFFSETFROM:-0600
TZOFFSETTO:-0500
TZNAME:CDT
DTSTART:20270314T080000
END:DAYLIGHT
BEGIN:STANDARD
TZOFFSETFROM:-0500
TZOFFSETTO:-0600
TZNAME:CST
DTSTART:20271107T070000
END:STANDARD
END:VTIMEZONE
BEGIN:VEVENT
DTSTART;TZID=America/Chicago:20250919T200000
DTEND;TZID=America/Chicago:20250919T200000
DTSTAMP:20260420T212027
CREATED:20250912T191426Z
LAST-MODIFIED:20250912T200620Z
UID:10000380-1758312000-1758312000@visitneshoba.com
SUMMARY:Danae Hays LIVE
DESCRIPTION:Danae Hays LIVE at the Ellis Theater on Friday\, September 19\, 2025 at 8:00pm. \nVisit the Ellis Theater website for tickets.
URL:https://visitneshoba.com/event/danae-hays-live/
LOCATION:The Ellis Theater\, 311 Byrd Avenue\, Philadelphia\, MS\, 39350
ATTACH;FMTTYPE=image/jpeg:https://visitneshoba.com/wp-content/uploads/Ellis-logo.jpg
END:VEVENT
BEGIN:VEVENT
DTSTART;TZID=America/Chicago:20250926T193000
DTEND;TZID=America/Chicago:20250926T193000
DTSTAMP:20260420T212027
CREATED:20250912T192442Z
LAST-MODIFIED:20250912T192442Z
UID:10000381-1758915000-1758915000@visitneshoba.com
SUMMARY:Rhonda Vincent LIVE
DESCRIPTION:Rhonda Vincent LIVE at the Ellis Theater on Friday\, September 26\, 2025 at 7:30pm.\n  \nVisit the Ellis Theater website for tickets.
URL:https://visitneshoba.com/event/rhonda-vincent-live/
LOCATION:The Ellis Theater\, 311 Byrd Avenue\, Philadelphia\, MS\, 39350
ATTACH;FMTTYPE=image/jpeg:https://visitneshoba.com/wp-content/uploads/Ellis-logo.jpg
END:VEVENT
BEGIN:VEVENT
DTSTART;TZID=America/Chicago:20251004T130000
DTEND;TZID=America/Chicago:20251004T170000
DTSTAMP:20260420T212027
CREATED:20250911T203919Z
LAST-MODIFIED:20250912T193041Z
UID:10000378-1759582800-1759597200@visitneshoba.com
SUMMARY:Miss Ham Jam Pageant
DESCRIPTION:New for This Year’s Ham Jam!\nWe’re thrilled to announce a new addition to this year’s annual Ham Jam Arts Festival… the very first Miss Ham Jam pageant! \nThis pageant will be held on Saturday\, October 4\, 2025 at 1:00pm and the winners will be featured onstage during the Ham Jam festivities on Saturday\, October 11\, 2025. \nAttire: Pageant Dress Only \nEntry Fee: $60 \nRegistration Deadline: September 15\, 2025 \nAge Divisions: \n\n0-23 Months (closed)\n2 Year Olds (closed)\n3 Year Olds\n4-5 Year Olds\n6-7 Year Olds\n8-9 Year Olds\n10-12 Year Olds\n13-15 Year Olds (closed)\n16-19 Year Olds\n\nEach age group will compete in a single pageant dress category\, judged on stage presence\, personality\, and poise. Winners in each division will receive full round crowns and embroidered sashes. \nA professional onstage photographer will be present to capture action shots of each contestant. \nHow to Enter: \nSpots are limited. Fill out the entry form and send entry fee by September 15 to secure your spot! \nLink to entry form: https://form.jotform.com \nPayPal: brandystuart1972@yahoo.com \nVenmo: @Brandy-Stokes-5 \nVisit the Ham Jam Arts Festival facebook page for udpates!
URL:https://visitneshoba.com/event/miss-ham-jam-pageant/
LOCATION:The Ellis Theater\, 311 Byrd Avenue\, Philadelphia\, MS\, 39350
ATTACH;FMTTYPE=image/jpeg:https://visitneshoba.com/wp-content/uploads/Miss-Ham-Jam-crown-scaled.jpg
END:VEVENT
BEGIN:VEVENT
DTSTART;TZID=America/Chicago:20251010T193000
DTEND;TZID=America/Chicago:20251010T193000
DTSTAMP:20260420T212027
CREATED:20250912T200531Z
LAST-MODIFIED:20250912T200531Z
UID:10000382-1760124600-1760124600@visitneshoba.com
SUMMARY:Rickie Lee Jones and Patty Griffin LIVE
DESCRIPTION:Rickie Lee Jones and Patty Griffin LIVE at the Ellis Theater on Friday\, October 10\, 2025 at 7:30pm.\n  \nVisit the Ellis Theater website for tickets.
URL:https://visitneshoba.com/event/rickie-lee-jones-and-patty-griffin-live/
LOCATION:The Ellis Theater\, 311 Byrd Avenue\, Philadelphia\, MS\, 39350
ATTACH;FMTTYPE=image/jpeg:https://visitneshoba.com/wp-content/uploads/Ellis-logo.jpg
END:VEVENT
BEGIN:VEVENT
DTSTART;VALUE=DATE:20251011
DTEND;VALUE=DATE:20251012
DTSTAMP:20260420T212027
CREATED:20250529T203818Z
LAST-MODIFIED:20250909T214902Z
UID:10000004-1760140800-1760227199@visitneshoba.com
SUMMARY:Philadelphia Ham Jam Arts Festival
DESCRIPTION:Join us for our 24th annual weekend event of friendship\, food\, and fellowship in historic downtown Philadelphia\, MS on Saturday\, October 11\, 2025. \n  \nThis one-day free event will feature local artists\, live music\, food trucks\, a kids area\, cornhole competition\, and the Refuge Run 5K and 1 Mile Fun Run fundraiser benefitting The Refuge of MS Special Needs Day Center program. \nArts & Crafts vendor spaces are still available. Vendor fee is $100. An additional $25 late fee will be added after September 1. Send an email to PhillyHamJam@gmail.com for an application. \nThe Refuge Run 5K and 1 Mile Fun Run entry fee is $35. Register online by September 13 to be guaranteed a shirt. Online registration closes on October 10 and raceday registration will be onsite from 6:15-7:00am. Race begins at 7:30am. Click here for the online registration link at raceroster.com
URL:https://visitneshoba.com/event/philadelphia-ham-jam-arts-festival/
LOCATION:Downtown Philadelphia\, MS 39350
ATTACH;FMTTYPE=image/jpeg:https://visitneshoba.com/wp-content/uploads/Ham-Jam-1_ALT1-scaled.jpg
END:VEVENT
BEGIN:VEVENT
DTSTART;VALUE=DATE:20251011
DTEND;VALUE=DATE:20251012
DTSTAMP:20260420T212027
CREATED:20250911T212520Z
LAST-MODIFIED:20250911T212543Z
UID:10000379-1760140800-1760227199@visitneshoba.com
SUMMARY:Ham Jam Refuge Run 5K Run/Walk and 1 Mile Fun Run presented by GlassWorx
DESCRIPTION:
URL:https://visitneshoba.com/event/ham-jam-refuge-run-5k-run-walk-and-1-mile-fun-run-presented-by-glassworx/
LOCATION:TBD
ATTACH;FMTTYPE=image/jpeg:https://visitneshoba.com/wp-content/uploads/Refuge-Run.jpg
END:VEVENT
BEGIN:VEVENT
DTSTART;TZID=America/Chicago:20251024T193000
DTEND;TZID=America/Chicago:20251024T193000
DTSTAMP:20260420T212027
CREATED:20251016T144125Z
LAST-MODIFIED:20251016T194852Z
UID:10000383-1761334200-1761334200@visitneshoba.com
SUMMARY:The Glenn Miller Orchestra LIVE
DESCRIPTION:
URL:https://visitneshoba.com/event/the-glenn-miller-orchestra-live/
LOCATION:The Ellis Theater\, 311 Byrd Avenue\, Philadelphia\, MS\, 39350
ATTACH;FMTTYPE=image/jpeg:https://visitneshoba.com/wp-content/uploads/The-Glenn-Miller-Orchestra-scaled.jpg
END:VEVENT
BEGIN:VEVENT
DTSTART;TZID=America/Chicago:20251030T193000
DTEND;TZID=America/Chicago:20251030T193000
DTSTAMP:20260420T212027
CREATED:20251016T144310Z
LAST-MODIFIED:20251016T195128Z
UID:10000384-1761852600-1761852600@visitneshoba.com
SUMMARY:Wheel of Fortune LIVE
DESCRIPTION:
URL:https://visitneshoba.com/event/wheel-of-fortune-live/
LOCATION:The Ellis Theater\, 311 Byrd Avenue\, Philadelphia\, MS\, 39350
ATTACH;FMTTYPE=image/avif:https://visitneshoba.com/wp-content/uploads/Top_of_Wheel_300-1-1-2048x1365-1-scaled.avif
END:VEVENT
BEGIN:VEVENT
DTSTART;TZID=America/Chicago:20251031T193000
DTEND;TZID=America/Chicago:20251031T193000
DTSTAMP:20260420T212027
CREATED:20251016T144352Z
LAST-MODIFIED:20251016T195146Z
UID:10000386-1761939000-1761939000@visitneshoba.com
SUMMARY:Wheel of Fortune LIVE
DESCRIPTION:
URL:https://visitneshoba.com/event/wheel-of-fortune-live-2/
LOCATION:The Ellis Theater\, 311 Byrd Avenue\, Philadelphia\, MS\, 39350
ATTACH;FMTTYPE=image/avif:https://visitneshoba.com/wp-content/uploads/Top_of_Wheel_300-1-1-2048x1365-1-scaled.avif
END:VEVENT
BEGIN:VEVENT
DTSTART;VALUE=DATE:20251107
DTEND;VALUE=DATE:20251109
DTSTAMP:20260420T212027
CREATED:20251103T220945Z
LAST-MODIFIED:20251103T220945Z
UID:10000769-1762473600-1762646399@visitneshoba.com
SUMMARY:Veterans Day Pow Wow
DESCRIPTION:
URL:https://visitneshoba.com/event/veterans-day-pow-wow/
LOCATION:TBD
ATTACH;FMTTYPE=image/jpeg:https://visitneshoba.com/wp-content/uploads/FB_IMG_1762199952117.jpg
END:VEVENT
BEGIN:VEVENT
DTSTART;VALUE=DATE:20251108
DTEND;VALUE=DATE:20251109
DTSTAMP:20260420T212027
CREATED:20250529T204113Z
LAST-MODIFIED:20251016T195545Z
UID:10000005-1762560000-1762646399@visitneshoba.com
SUMMARY:Veterans Day Golf Tournament
DESCRIPTION:The Veterans Day Golf Tournament will be on Saturday\, November 8\, 2025 on the Oaks Course at the Dancing Rabbit Golf Club.
URL:https://visitneshoba.com/event/dancing-rabbit-golf-tournament/
LOCATION:Dancing Rabbit Golf Club at Pearl River Resort\, 13541 MS-16\, Philadelphia\, MS\, 39350\, United States
ATTACH;FMTTYPE=image/jpeg:https://visitneshoba.com/wp-content/uploads/Dancing-Rabbit-13-scaled.jpg
END:VEVENT
BEGIN:VEVENT
DTSTART;TZID=America/Chicago:20251108T110000
DTEND;TZID=America/Chicago:20251108T160000
DTSTAMP:20260420T212027
CREATED:20251016T200550Z
LAST-MODIFIED:20251016T200656Z
UID:10000764-1762599600-1762617600@visitneshoba.com
SUMMARY:Neshoba County Sheriff's Association 2nd Annual Family Fun Day
DESCRIPTION:
URL:https://visitneshoba.com/event/neshoba-county-sheriffs-association-2nd-annual-family-fun-day/
LOCATION:Neshoba County Coliseum\, 12000 Highway 15 N\, Philadelphia\, MS\, 39350
ATTACH;FMTTYPE=image/jpeg:https://visitneshoba.com/wp-content/uploads/Sheriffs-family-fun-day.jpg
END:VEVENT
BEGIN:VEVENT
DTSTART;TZID=America/Chicago:20251108T193000
DTEND;TZID=America/Chicago:20251108T193000
DTSTAMP:20260420T212027
CREATED:20251016T144442Z
LAST-MODIFIED:20251016T195256Z
UID:10000385-1762630200-1762630200@visitneshoba.com
SUMMARY:Hayes Carll LIVE
DESCRIPTION:
URL:https://visitneshoba.com/event/hayes-carll-live/
LOCATION:The Ellis Theater\, 311 Byrd Avenue\, Philadelphia\, MS\, 39350
ATTACH;FMTTYPE=image/jpeg:https://visitneshoba.com/wp-content/uploads/Hayes-Carll-scaled.jpg
END:VEVENT
BEGIN:VEVENT
DTSTART;TZID=America/Chicago:20251109T130000
DTEND;TZID=America/Chicago:20251109T170000
DTSTAMP:20260420T212027
CREATED:20251106T170604Z
LAST-MODIFIED:20251106T170743Z
UID:10000770-1762693200-1762707600@visitneshoba.com
SUMMARY:Holiday Open House
DESCRIPTION:Kick off the holiday shopping season with our downtown Philadelphia shops on Sunday\, November 9 from 1-5pm. Our local merchants appreciate your support!
URL:https://visitneshoba.com/event/holiday-open-house/
LOCATION:Downtown Philadelphia\, MS 39350
ATTACH;FMTTYPE=image/jpeg:https://visitneshoba.com/wp-content/uploads/Holiday-Open-House-scaled.jpg
END:VEVENT
BEGIN:VEVENT
DTSTART;TZID=America/Chicago:20251114T193000
DTEND;TZID=America/Chicago:20251114T193000
DTSTAMP:20260420T212027
CREATED:20251016T144518Z
LAST-MODIFIED:20251016T195345Z
UID:10000387-1763148600-1763148600@visitneshoba.com
SUMMARY:Crystal Gayle LIVE
DESCRIPTION:
URL:https://visitneshoba.com/event/crystal-gayle-live/
LOCATION:The Ellis Theater\, 311 Byrd Avenue\, Philadelphia\, MS\, 39350
ATTACH;FMTTYPE=image/avif:https://visitneshoba.com/wp-content/uploads/Crystal-Gayle-scaled.avif
END:VEVENT
BEGIN:VEVENT
DTSTART;TZID=America/Chicago:20251115T100000
DTEND;TZID=America/Chicago:20251115T180000
DTSTAMP:20260420T212027
CREATED:20251016T201201Z
LAST-MODIFIED:20251016T201201Z
UID:10000765-1763200800-1763229600@visitneshoba.com
SUMMARY:7th Annual The Outsiders Truck Show
DESCRIPTION:
URL:https://visitneshoba.com/event/7th-annual-the-outsiders-truck-show/
LOCATION:Neshoba County Coliseum\, 12000 Highway 15 N\, Philadelphia\, MS\, 39350
ATTACH;FMTTYPE=image/jpeg:https://visitneshoba.com/wp-content/uploads/truck-show.jpg
END:VEVENT
BEGIN:VEVENT
DTSTART;TZID=America/Chicago:20251120T190000
DTEND;TZID=America/Chicago:20251120T190000
DTSTAMP:20260420T212027
CREATED:20251016T194535Z
LAST-MODIFIED:20251016T195946Z
UID:10000394-1763665200-1763665200@visitneshoba.com
SUMMARY:Mary Poppins presented by PNCAC
DESCRIPTION:
URL:https://visitneshoba.com/event/mary-poppins-presented-by-pncac/2025-11-20/
LOCATION:The Ellis Theater\, 311 Byrd Avenue\, Philadelphia\, MS\, 39350
ATTACH;FMTTYPE=image/jpeg:https://visitneshoba.com/wp-content/uploads/Mary-Poppins-by-PNCAC.jpg
ORGANIZER;CN="Philadelphia Neshoba County Arts Council":MAILTO:pncartscouncil@gmail.com
END:VEVENT
BEGIN:VEVENT
DTSTART;TZID=America/Chicago:20251121T190000
DTEND;TZID=America/Chicago:20251121T190000
DTSTAMP:20260420T212027
CREATED:20251016T194535Z
LAST-MODIFIED:20251016T195946Z
UID:10000395-1763751600-1763751600@visitneshoba.com
SUMMARY:Mary Poppins presented by PNCAC
DESCRIPTION:
URL:https://visitneshoba.com/event/mary-poppins-presented-by-pncac/2025-11-21/
LOCATION:The Ellis Theater\, 311 Byrd Avenue\, Philadelphia\, MS\, 39350
ATTACH;FMTTYPE=image/jpeg:https://visitneshoba.com/wp-content/uploads/Mary-Poppins-by-PNCAC.jpg
ORGANIZER;CN="Philadelphia Neshoba County Arts Council":MAILTO:pncartscouncil@gmail.com
END:VEVENT
BEGIN:VEVENT
DTSTART;TZID=America/Chicago:20251122T080000
DTEND;TZID=America/Chicago:20251122T160000
DTSTAMP:20260420T212027
CREATED:20251016T201411Z
LAST-MODIFIED:20251016T201440Z
UID:10000766-1763798400-1763827200@visitneshoba.com
SUMMARY:Tis the Season Market
DESCRIPTION:
URL:https://visitneshoba.com/event/tis-the-season-market/
LOCATION:Neshoba County Coliseum\, 12000 Highway 15 N\, Philadelphia\, MS\, 39350
ATTACH;FMTTYPE=image/jpeg:https://visitneshoba.com/wp-content/uploads/Tis-the-Season.jpg
END:VEVENT
BEGIN:VEVENT
DTSTART;TZID=America/Chicago:20251122T140000
DTEND;TZID=America/Chicago:20251122T170000
DTSTAMP:20260420T212027
CREATED:20251016T194535Z
LAST-MODIFIED:20251016T195946Z
UID:10000762-1763820000-1763830800@visitneshoba.com
SUMMARY:Mary Poppins presented by PNCAC
DESCRIPTION:
URL:https://visitneshoba.com/event/mary-poppins-presented-by-pncac/2025-11-22/3/
LOCATION:The Ellis Theater\, 311 Byrd Avenue\, Philadelphia\, MS\, 39350
ATTACH;FMTTYPE=image/jpeg:https://visitneshoba.com/wp-content/uploads/Mary-Poppins-by-PNCAC.jpg
ORGANIZER;CN="Philadelphia Neshoba County Arts Council":MAILTO:pncartscouncil@gmail.com
END:VEVENT
BEGIN:VEVENT
DTSTART;TZID=America/Chicago:20251122T190000
DTEND;TZID=America/Chicago:20251122T190000
DTSTAMP:20260420T212027
CREATED:20251016T194535Z
LAST-MODIFIED:20251016T195946Z
UID:10000396-1763838000-1763838000@visitneshoba.com
SUMMARY:Mary Poppins presented by PNCAC
DESCRIPTION:
URL:https://visitneshoba.com/event/mary-poppins-presented-by-pncac/2025-11-22/2/
LOCATION:The Ellis Theater\, 311 Byrd Avenue\, Philadelphia\, MS\, 39350
ATTACH;FMTTYPE=image/jpeg:https://visitneshoba.com/wp-content/uploads/Mary-Poppins-by-PNCAC.jpg
ORGANIZER;CN="Philadelphia Neshoba County Arts Council":MAILTO:pncartscouncil@gmail.com
END:VEVENT
BEGIN:VEVENT
DTSTART;TZID=America/Chicago:20251123T140000
DTEND;TZID=America/Chicago:20251123T170000
DTSTAMP:20260420T212027
CREATED:20251016T194535Z
LAST-MODIFIED:20251016T195946Z
UID:10000763-1763906400-1763917200@visitneshoba.com
SUMMARY:Mary Poppins presented by PNCAC
DESCRIPTION:
URL:https://visitneshoba.com/event/mary-poppins-presented-by-pncac/2025-11-23/
LOCATION:The Ellis Theater\, 311 Byrd Avenue\, Philadelphia\, MS\, 39350
ATTACH;FMTTYPE=image/jpeg:https://visitneshoba.com/wp-content/uploads/Mary-Poppins-by-PNCAC.jpg
ORGANIZER;CN="Philadelphia Neshoba County Arts Council":MAILTO:pncartscouncil@gmail.com
END:VEVENT
BEGIN:VEVENT
DTSTART;TZID=America/Chicago:20251205T170000
DTEND;TZID=America/Chicago:20251211T113543
DTSTAMP:20260420T212027
CREATED:20251016T202534Z
LAST-MODIFIED:20251211T173543Z
UID:10000768-1764954000-1765452943@visitneshoba.com
SUMMARY:Hometown Christmas
DESCRIPTION:
URL:https://visitneshoba.com/event/hometown-christmas/
LOCATION:Downtown Philadelphia\, MS 39350
ATTACH;FMTTYPE=image/jpeg:https://visitneshoba.com/wp-content/uploads/Hometown-Christmas-scaled.jpg
END:VEVENT
BEGIN:VEVENT
DTSTART;TZID=America/Chicago:20251208T180000
DTEND;TZID=America/Chicago:20251208T180000
DTSTAMP:20260420T212027
CREATED:20251016T202018Z
LAST-MODIFIED:20251016T202103Z
UID:10000767-1765216800-1765216800@visitneshoba.com
SUMMARY:Annual Philadelphia Christmas Parade
DESCRIPTION:
URL:https://visitneshoba.com/event/annual-philadelphia-christmas-parade/
LOCATION:Downtown Philadelphia\, MS 39350
ATTACH;FMTTYPE=image/jpeg:https://visitneshoba.com/wp-content/uploads/Neshoba-General-Hospital-2024-Best-Overall-scaled.jpg
END:VEVENT
BEGIN:VEVENT
DTSTART;TZID=America/Chicago:20251212T183000
DTEND;TZID=America/Chicago:20251213T183000
DTSTAMP:20260420T212027
CREATED:20251211T164851Z
LAST-MODIFIED:20251211T165906Z
UID:10000771-1765564200-1765650600@visitneshoba.com
SUMMARY:Bout Time Brawlin' Super Brawl Weekend
DESCRIPTION:Visit Neshoba for Super Brawl Weekend featuring 50 fights in 2 nights on December 12 and 13\, 2025\nat the Neshoba County Coliseum.\n  \nFor updates and more information\, visit the Bout Time Brawlin’ Facebook page.
URL:https://visitneshoba.com/event/bout-time-brawlin-super-brawl-weekend/
LOCATION:Neshoba County Coliseum\, 12000 Highway 15 N\, Philadelphia\, MS\, 39350
ATTACH;FMTTYPE=image/jpeg:https://visitneshoba.com/wp-content/uploads/BTB-logo.jpg
END:VEVENT
BEGIN:VEVENT
DTSTART;TZID=America/Chicago:20251227T200000
DTEND;TZID=America/Chicago:20251227T200000
DTSTAMP:20260420T212027
CREATED:20251211T170526Z
LAST-MODIFIED:20251211T171836Z
UID:10000772-1766865600-1766865600@visitneshoba.com
SUMMARY:Lita Ford\, Dee Snider\, Firehouse LIVE at the Silver Star
DESCRIPTION:Visit Neshoba on Saturday\, December 12 to catch a live performance by Lita Ford and Dee Snider with special guest Firehouse at the Silver Star Convention Center.\n  \n \nFor more details and information\, visit pearlriverresort.com.
URL:https://visitneshoba.com/event/lita-ford-dee-snider-firehouse-live-at-the-silver-star/
LOCATION:Silver Star Convention Center\, 13550 MS 16\, Philadelphia\, MS\, 39350\, United States
ATTACH;FMTTYPE=image/jpeg:https://visitneshoba.com/wp-content/uploads/Silver-Star-e1765473471686.jpg
END:VEVENT
BEGIN:VEVENT
DTSTART;TZID=America/Chicago:20260109T193000
DTEND;TZID=America/Chicago:20260109T193000
DTSTAMP:20260420T212027
CREATED:20251211T214939Z
LAST-MODIFIED:20251211T215029Z
UID:10000774-1767987000-1767987000@visitneshoba.com
SUMMARY:Mississippi Symphony Orchestra: Mozart Magic LIVE at the Ellis Theater
DESCRIPTION:Visit Neshoba on Friday\, January 9\, 2026 for the Mississippi Symphony Orchestra: Mozart Magic LIVE at the Ellis Theater!\n  \nFor more information and to purchase tickets\, visit www.ellistheater.org.
URL:https://visitneshoba.com/event/mississippi-symphony-orchestra-mozart-magic/
LOCATION:The Ellis Theater\, 311 Byrd Avenue\, Philadelphia\, MS\, 39350
ATTACH;FMTTYPE=image/avif:https://visitneshoba.com/wp-content/uploads/488884942_1362541991904955_1606180022414804764_n-scaled.avif
END:VEVENT
BEGIN:VEVENT
DTSTART;TZID=America/Chicago:20260110T130000
DTEND;TZID=America/Chicago:20260110T130000
DTSTAMP:20260420T212027
CREATED:20251211T172912Z
LAST-MODIFIED:20251211T173208Z
UID:10000773-1768050000-1768050000@visitneshoba.com
SUMMARY:No Limits Monster Truck & Thrill Show
DESCRIPTION:Visit Neshoba on Saturday\, January 10\, 2026 for the No Limits Monster Truck Show at the Neshoba County Coliseum.\n  \n \nFor more information\, visit the No Limits Monster Trucks & Thrill Show Facebook page or the website www.nolimitsmonstertrucks.com.
URL:https://visitneshoba.com/event/no-limits-monster-truck-thrill-show/
LOCATION:Neshoba County Coliseum\, 12000 Highway 15 N\, Philadelphia\, MS\, 39350
ATTACH;FMTTYPE=image/jpeg:https://visitneshoba.com/wp-content/uploads/Monster-Trucks-logo.jpg
END:VEVENT
BEGIN:VEVENT
DTSTART;TZID=America/Chicago:20260115T190000
DTEND;TZID=America/Chicago:20260115T190000
DTSTAMP:20260420T212027
CREATED:20251218T171019Z
LAST-MODIFIED:20251218T171657Z
UID:10000775-1768503600-1768503600@visitneshoba.com
SUMMARY:The Play That Goes Wrong presented by PNC Arts Council
DESCRIPTION:Visit Neshoba on January 15-18\, 2026 for The Play That Goes Wrong presented by the PNC Arts Council!\n \nShow times:\nThursday\, January 15\, 2026 – 7:00 PM\nFriday\, January 16\, 2026 – 7:00 PM\nSaturday\, January 17\, 2026 – 7:00 PM\nSunday\, January 18\, 2026 – 2:00 PM \nFor more information\, visit the Facebook page PNC Arts Council. Tickets can only be purchased through the Ellis Theater Box Office.
URL:https://visitneshoba.com/event/the-play-that-goes-wrong-presented-by-pnc-arts-council/2026-01-15/
LOCATION:The Ellis Theater\, 311 Byrd Avenue\, Philadelphia\, MS\, 39350
ATTACH;FMTTYPE=image/jpeg:https://visitneshoba.com/wp-content/uploads/The-Play-That-Goes-Wrong-scaled.jpg
END:VEVENT
BEGIN:VEVENT
DTSTART;TZID=America/Chicago:20260117T110000
DTEND;TZID=America/Chicago:20260117T110000
DTSTAMP:20260420T212027
CREATED:20260113T144045Z
LAST-MODIFIED:20260113T144109Z
UID:10000776-1768647600-1768647600@visitneshoba.com
SUMMARY:Martin Luther King Jr. Parade
DESCRIPTION:The Martin Luther King Jr. Parade Committee cordially invites you to Philadelphia’s annual Dr. Martin Luther King Jr. Parade on Saturday\, January 17\, 2026 beginning at 11:00am. \n 
URL:https://visitneshoba.com/event/martin-luther-king-jr-parade/
LOCATION:Downtown Philadelphia\, MS 39350
END:VEVENT
END:VCALENDAR